BEGIN:VCALENDAR
VERSION:2.0
PRODID:-//Prosecutors Alliance - ECPv6.15.20//NONSGML v1.0//EN
CALSCALE:GREGORIAN
METHOD:PUBLISH
X-ORIGINAL-URL:https://prosecutorsalliance.org
X-WR-CALDESC:Events for Prosecutors Alliance
REFRESH-INTERVAL;VALUE=DURATION:PT1H
X-Robots-Tag:noindex
X-PUBLISHED-TTL:PT1H
BEGIN:VTIMEZONE
TZID:America/Los_Angeles
BEGIN:DAYLIGHT
TZOFFSETFROM:-0800
TZOFFSETTO:-0700
TZNAME:PDT
DTSTART:20250309T100000
END:DAYLIGHT
BEGIN:STANDARD
TZOFFSETFROM:-0700
TZOFFSETTO:-0800
TZNAME:PST
DTSTART:20251102T090000
END:STANDARD
BEGIN:DAYLIGHT
TZOFFSETFROM:-0800
TZOFFSETTO:-0700
TZNAME:PDT
DTSTART:20260308T100000
END:DAYLIGHT
BEGIN:STANDARD
TZOFFSETFROM:-0700
TZOFFSETTO:-0800
TZNAME:PST
DTSTART:20261101T090000
END:STANDARD
BEGIN:DAYLIGHT
TZOFFSETFROM:-0800
TZOFFSETTO:-0700
TZNAME:PDT
DTSTART:20270314T100000
END:DAYLIGHT
BEGIN:STANDARD
TZOFFSETFROM:-0700
TZOFFSETTO:-0800
TZNAME:PST
DTSTART:20271107T090000
END:STANDARD
END:VTIMEZONE
BEGIN:VEVENT
DTSTART;TZID=America/Los_Angeles:20260602T120000
DTEND;TZID=America/Los_Angeles:20260602T130000
DTSTAMP:20260423T125040
CREATED:20260325T155043Z
LAST-MODIFIED:20260407T064018Z
UID:7116-1780401600-1780405200@prosecutorsalliance.org
SUMMARY:Post-Conviction Resource Centers for Survivors and Practitioners
DESCRIPTION:Following a conviction\, many crime victims and survivors feel unprepared for the ongoing legal activity that can follow – such as appeals\, parole hearings\, or conviction and sentence reviews. The Post Conviction Resource Center (PCRC) is a newly launched online hub that offers clear information and compassionate support during this often confusing stage for both survivors and practitioners. During this presentation\, Healing Justice staff will introduce their organization and provide a guided walkthrough of the two new PCRC websites\, demonstrating how to effectively use the available tools and resources designed for survivors and practitioners. \nThe PCRC for Survivors serves as a centralized space where victims and survivors can access critical information\, practical resources\, and direct advocate assistance related to all types of post-conviction case activity. The PCRC for Practitioners offers tools\, guidance\, and best practices for prosecutors\, law enforcement\, judges\, victim advocates\, and the media to support victims and survivors during cases involving post-conviction claims of innocence and exonerations. \n\n\n\nRegister Now\n\n\n\nSpeakers \n\n\n\n\n\nBrittany Shefter is the Director of Healing Programs at Healing Justice\, where she oversees the development and implementation of programs aimed at promoting healing for individuals harmed by wrongful convictions. With a Master of Social Work\, Brittany’s expertise in restorative practices\, qualitative research\, and program development enhances existing programs and creates new opportunities to engage the communities served. \nDuring her nine years with Healing Justice\, Brittany has focused on increasing support and connection for victims and survivors of crimes involving claims of factual innocence and exoneration. Currently\, she serves as the project coordinator for the OVC-funded development of the Post-Conviction Resource Center\, furthering her commitment to providing vital resources and support for victims and survivors in the post-conviction setting. \nClaire Liepert is the Director of Justice Programs at Healing Justice. With a deep passion for justice and commitment to continuous improvement\, Claire strives to create a legal system that is more responsive\, compassionate and effective in supporting those impacted by crime and wrongful convictions. Claire is a dedicated leader with extensive experience in victim services\, victims’ rights\, and driving meaningful system change. She has provided direct support to crime victims and survivors as a victim advocate\, and led multidisciplinary teams to strengthen partnerships and enhance the overall response to victims and survivors. \nClaire holds a Master’s Degree in Leadership Education\, and her graduate research focused on understanding the needs of victims\, exploring how their needs are met by service providers\, and identifying gaps in response.
URL:https://prosecutorsalliance.org/event/post-conviction-resource-centers/
CATEGORIES:Survivor Center Training
ATTACH;FMTTYPE=image/webp:https://prosecutorsalliance.org/wp-content/uploads/2026/03/Survivor-Center-2026-06-Website.webp
END:VEVENT
END:VCALENDAR