BEGIN:VCALENDAR
VERSION:2.0
PRODID:-//Prosecutors Alliance - ECPv6.15.20//NONSGML v1.0//EN
CALSCALE:GREGORIAN
METHOD:PUBLISH
X-ORIGINAL-URL:https://prosecutorsalliance.org
X-WR-CALDESC:Events for Prosecutors Alliance
REFRESH-INTERVAL;VALUE=DURATION:PT1H
X-Robots-Tag:noindex
X-PUBLISHED-TTL:PT1H
BEGIN:VTIMEZONE
TZID:America/Los_Angeles
BEGIN:DAYLIGHT
TZOFFSETFROM:-0800
TZOFFSETTO:-0700
TZNAME:PDT
DTSTART:20250309T100000
END:DAYLIGHT
BEGIN:STANDARD
TZOFFSETFROM:-0700
TZOFFSETTO:-0800
TZNAME:PST
DTSTART:20251102T090000
END:STANDARD
BEGIN:DAYLIGHT
TZOFFSETFROM:-0800
TZOFFSETTO:-0700
TZNAME:PDT
DTSTART:20260308T100000
END:DAYLIGHT
BEGIN:STANDARD
TZOFFSETFROM:-0700
TZOFFSETTO:-0800
TZNAME:PST
DTSTART:20261101T090000
END:STANDARD
BEGIN:DAYLIGHT
TZOFFSETFROM:-0800
TZOFFSETTO:-0700
TZNAME:PDT
DTSTART:20270314T100000
END:DAYLIGHT
BEGIN:STANDARD
TZOFFSETFROM:-0700
TZOFFSETTO:-0800
TZNAME:PST
DTSTART:20271107T090000
END:STANDARD
END:VTIMEZONE
BEGIN:VEVENT
DTSTART;TZID=America/Los_Angeles:20260319T120000
DTEND;TZID=America/Los_Angeles:20260319T130000
DTSTAMP:20260423T114003
CREATED:20260309T194014Z
LAST-MODIFIED:20260316T193457Z
UID:7018-1773921600-1773925200@prosecutorsalliance.org
SUMMARY:Justice Minded: What do mindfulness and resilience have to do with our goals of ‘doing justice’?
DESCRIPTION:🚨 Please note: as of February 2026\, all Third Thursday trainings will have individual Zoom links for registration rather than a recurring link\, so you will need to register each month. \nMany criminal justice professionals seem to face a zero-sum quandary: what obligations can be put to the side so that I can create the time and energy to invest in my own wellbeing? Join us for a conversation about a 2025 pilot with four prosecutors’ offices to explore how targeted efforts focused on both legitimacy and resilience can restore and even generate energy and efficacy for prosecution professionals. Emily LaGratta from LaGratta Consulting\, national subject matter expert on legitimacy and procedural justice\, joins educator and social worker Sarah Schnautz to report out some early findings from their Legitimacy and Resilience Project. In 2025\, the project recruited over 30 prosecutors and victim-witness staff to join a 9-month pilot that included regular training and engagement on the topics of procedural justice and mindfulness. The presentation will include live demonstrations of some exercises and practices and an invitation to inform future iterations of the project going forward. \nEligible for 1 Hour of Wellness CLE Credit in CA. Email us regarding credit in other states. \nRegister Now\nSpeakers \n\nEmily LaGratta\, JD\, leads a consulting shop based in New York City focused on the topics of legitimacy and procedural justice. She is the author and creator of dozens of practitioner tools\, curricula\, and pilot projects on these topics\, including To Be Fair\, We Want to Hear From You!: A Toolkit for Collecting and Learning from Court User Feedback\, and most recently\, an American Judges Association Court Review article co-authored with Tom Tyler\, “Yes there’s a public trust crisis. But your daily efforts can reverse.” \n\n  \nSarah Schnautz\, M.Ed.\, MSW\, is an educator and social worker based in Chicago. She is a certified practitioner of Trust-Based Relational Intervention (TBRI). She has worked inter-disciplinarily\, including with courts and prosecutors’ offices\, to design and implement trauma-responsive practices and programming. \n 
URL:https://prosecutorsalliance.org/event/justice-minded-what-do-mindfulness-and-resilience-have-to-do-with-our-goals-of-doing-justice/
ATTACH;FMTTYPE=image/webp:https://prosecutorsalliance.org/wp-content/uploads/2026/02/2026-03-TT-Website.webp
END:VEVENT
END:VCALENDAR